BEGIN:VCALENDAR
VERSION:2.0
PRODID:-//wp-events-plugin.com//7.2.3.1//EN
TZID:America/New_York
X-WR-TIMEZONE:America/New_York
BEGIN:VEVENT
UID:166@fmhlicensure.com
DTSTART;TZID=America/New_York:20181025T120000
DTEND;TZID=America/New_York:20181026T180000
DTSTAMP:20180613T181509Z
URL:https://fmhlicensure.com/trainings/working-with-clients-inner-family-o
 f-selves-zen-dialogue-training-2/
SUMMARY:Working with Client's Inner Family of Selves Zen Dialogue Training
DESCRIPTION:
LOCATION:Naples Open Mind Zen\,  1250 Tamiami Trail N #205\, naples\, fl\, 
 34102\, United States
GEO:26.1629892;-81.7976592
X-APPLE-STRUCTURED-LOCATION;VALUE=URI;X-ADDRESS= 1250 Tamiami Trail N #205\
 , naples\, fl\, 34102\, United States;X-APPLE-RADIUS=100;X-TITLE=Naples Op
 en Mind Zen:geo:26.1629892,-81.7976592
END:VEVENT
BEGIN:VTIMEZONE
TZID:America/New_York
X-LIC-LOCATION:America/New_York
BEGIN:DAYLIGHT
DTSTART:20180311T030000
TZOFFSETFROM:-0500
TZOFFSETTO:-0400
TZNAME:EDT
END:DAYLIGHT
END:VTIMEZONE
END:VCALENDAR